BEGIN:VCALENDAR
VERSION:2.0
PRODID:-//hacksw/handcal//NONSGML v1.0//EN
BEGIN:VEVENT
SUMMARY:Club avenir demi finale et finale
UID:25c208ea-e7b4-4b96-966b-2d8afe0d937f
DTSTART:20260426T070000Z
DTEND:20260426T100000Z
LOCATION:Localisation   chalamont
CATEGORIES:Sportif
STATUS:
URL;VALUE=URI:https://www.obsm.fr/evenements/2026/04/26/club-avenir-demi-finale-et-finale-2435049
END:VEVENT
END:VCALENDAR
