BEGIN:VCALENDAR
VERSION:2.0
PRODID:-//hacksw/handcal//NONSGML v1.0//EN
BEGIN:VEVENT
SUMMARY:as masculine 1  au Mas Riller
UID:b210cc79-0311-47bb-b6ee-5c32d602b04d
DTSTART:20260424T160000Z
DTEND:20260424T183000Z
LOCATION:Localisation route de margnolas 01700 miribel
CATEGORIES:Sportif
STATUS:
URL;VALUE=URI:https://www.obsm.fr/evenements/2026/04/24/as-masculine-1-au-mas-riller-2431852
END:VEVENT
END:VCALENDAR
